{
 "currentVersion": 10.91,
 "serviceDescription": "Ortho_2025",
 "name": "Ortho_2025",
 "description": "",
 "extent": {
  "xmin": 504000,
  "ymin": 5427000,
  "xmax": 526500,
  "ymax": 5454000,
  "spatialReference": {
   "wkid": 3157,
   "latestWkid": 3157
  }
 },
 "initialExtent": {
  "xmin": 504000,
  "ymin": 5427000,
  "xmax": 526500,
  "ymax": 5454000,
  "spatialReference": {
   "wkid": 3157,
   "latestWkid": 3157
  }
 },
 "fullExtent": {
  "xmin": 504000,
  "ymin": 5427000,
  "xmax": 526500,
  "ymax": 5454000,
  "spatialReference": {
   "wkid": 3157,
   "latestWkid": 3157
  }
 },
 "hasMultidimensions": false,
 "pixelSizeX": 0.075,
 "pixelSizeY": 0.075,
 "datasetFormat": "MrSID",
 "uncompressedSize": 540000000000,
 "blockWidth": 1024,
 "blockHeight": 128,
 "compressionType": "Wavelet (MG4)",
 "bandNames": [
  "Band_1",
  "Band_2",
  "Band_3",
  "Band_4",
  "Band_5"
 ],
 "allowCopy": true,
 "allowAnalysis": true,
 "bandCount": 5,
 "pixelType": "U8",
 "minPixelSize": 0,
 "maxPixelSize": 0,
 "copyrightText": "",
 "serviceDataType": "esriImageServiceDataTypeGeneric",
 "serviceSourceType": "esriImageServiceSourceTypeDataset",
 "minValues": [
  0,
  12,
  18,
  0,
  31
 ],
 "maxValues": [
  246,
  243,
  240,
  241,
  255
 ],
 "meanValues": [
  92.33015970516,
  97.501689189189,
  90.286547911548,
  104.78040540541,
  252.59382678133
 ],
 "stdvValues": [
  32.404087723665,
  27.668680741093,
  26.109682011028,
  38.889743622829,
  22.458604671881
 ],
 "objectIdField": "",
 "fields": [],
 "capabilities": "Image,Metadata,Mensuration",
 "defaultMosaicMethod": "Center",
 "allowedMosaicMethods": "",
 "sortField": "",
 "sortValue": null,
 "sortAscending": true,
 "mosaicOperator": "First",
 "defaultCompressionQuality": 75,
 "defaultResamplingMethod": "Bilinear",
 "maxImageHeight": 4100,
 "maxImageWidth": 15000,
 "allowRasterFunction": true,
 "rasterFunctionInfos": [
  {
   "name": "None",
   "description": "",
   "help": ""
  }
 ],
 "rasterTypeInfos": [
  {
   "name": "Raster Dataset",
   "description": "Supports all ArcGIS Raster Datasets",
   "help": ""
  }
 ],
 "mensurationCapabilities": "Basic",
 "hasHistograms": true,
 "hasColormap": false,
 "hasRasterAttributeTable": false,
 "minScale": 0,
 "maxScale": 0,
 "exportTilesAllowed": false,
 "supportsStatistics": false,
 "supportsAdvancedQueries": false,
 "editFieldsInfo": null,
 "ownershipBasedAccessControlForRasters": null,
 "allowComputeTiePoints": false,
 "useStandardizedQueries": true,
 "advancedQueryCapabilities": {
  "useStandardizedQueries": true,
  "supportsStatistics": false,
  "supportsOrderBy": false,
  "supportsDistinct": false,
  "supportsPagination": false
 },
 "spatialReference": {
  "wkid": 3157,
  "latestWkid": 3157
 }
}
