View In:
ArcGIS JavaScript
ArcGIS Online Map Viewer
ArcGIS Earth
ArcMap
View Footprint In:
ArcGIS Online Map Viewer
Service Description: Ortho_2025
Name: Ortho_2025
Description:
Single Fused Map Cache: false
Extent:
XMin: 504000
YMin: 5427000
XMax: 526500
YMax: 5454000
Spatial Reference: 3157
(3157)
Initial Extent:
XMin: 504000
YMin: 5427000
XMax: 526500
YMax: 5454000
Spatial Reference: 3157
(3157)
Full Extent:
XMin: 504000
YMin: 5427000
XMax: 526500
YMax: 5454000
Spatial Reference: 3157
(3157)
Pixel Size X: 0.075
Pixel Size Y: 0.075
Band Count: 5
Pixel Type: U8
RasterFunction Infos: {"rasterFunctionInfos": [{
"name": "None",
"description": "",
"help": ""
}]}
Mensuration Capabilities: Basic
Has Histograms: true
Has Colormap: false
Has Multi Dimensions : false
Rendering Rule:
Min Scale: 0
Max Scale: 0
Copyright Text:
Service Data Type: esriImageServiceDataTypeGeneric
Min Values: 0, 12, 18, 0, 31
Max Values: 246, 243, 240, 241, 255
Mean Values: 92.33015970516, 97.501689189189, 90.286547911548, 104.78040540541, 252.59382678133
Standard Deviation Values: 32.404087723665, 27.668680741093, 26.109682011028, 38.889743622829, 22.458604671881
Object ID Field:
Fields:
None
Default Mosaic Method: Center
Allowed Mosaic Methods:
SortField:
SortValue: null
Mosaic Operator: First
Default Compression Quality: 75
Default Resampling Method: Bilinear
Max Record Count: null
Max Image Height: 4100
Max Image Width: 15000
Max Download Image Count: null
Max Mosaic Image Count: null
Allow Raster Function: true
Allow Copy: true
Allow Analysis: true
Allow Compute TiePoints: false
Supports Statistics: false
Supports Advanced Queries: false
Use StandardizedQueries: true
Raster Type Infos:
Name: Raster Dataset
Description: Supports all ArcGIS Raster Datasets
Help:
Has Raster Attribute Table: false
Edit Fields Info: null
Ownership Based AccessControl For Rasters: null
Child Resources:
Info
Histograms
Statistics
Key Properties
Legend
Raster Function Infos
Supported Operations:
Export Image
Identify
Measure
Compute Histograms
Compute Statistics Histograms
Get Samples
Compute Class Statistics
Query Boundary
Compute Pixel Location
Compute Angles
Validate
Project